BEGIN:VCALENDAR
VERSION:2.0
METHOD:PUBLISH
X-WR-CALNAME:VFEK |  május 09 2008- május 09 2008
PRODID:-//strange bird labs//Drupal iCal API//EN
BEGIN:VEVENT
DTSTAMP;VALUE=DATE-TIME:20260420T155134Z
DTSTART;VALUE=DATE-TIME:20080429T150000Z
DTEND;VALUE=DATE-TIME:20080530T170000Z
UID:http://portal.vfmk.hu/01112008040801
URL;VALUE=URI:http://portal.vfmk.hu/01112008040801
SUMMARY:Király György kiállítása
DESCRIPTION:<p class=\\"rtejustify\\">Kir&aacute\;ly Gy&ouml\;rgy festm&eacute\;nyeinek ki&aacute\;ll&iacute\;t&aacute\;sa m&aacute\;jus 15-ig tekinthető meg a Műv&eacute\;szeti Szalonban.</p>
 <p class=\\"rtejustify\\"><b>A műv&eacute\;sz &iacute\;rta &ouml\;nmag&aacute\;r&oacute\;l\:</b><br />
 <i>1982-ben Szolnokon sz&uuml\;lettem. Jelenleg v&eacute\;gzős festő szakos hallgat&oacute\; vagyok a Magyar K&eacute\;pzőműv&eacute\;szeti Egyetemen.<br />
 Mestereim k&ouml\;z&uuml\;l kiemeln&eacute\;m Mihail Volkov\, F&uuml\;zes Gergely &eacute\;s Nagy G&aacute\;bor nev&eacute\;t.<br />
 2007-ben Barcsay-d&iacute\;jazott lettem\, majd Erasmus &ouml\;szt&ouml\;nd&iacute\;jjal Olaszorsz&aacute\;gban festhettem.<br />
 Nagyon &ouml\;r&uuml\;l&ouml\;k\, hogy bemutatkozhatom sz&uuml\;lőv&aacute\;rosomban.</i></p>
 <p class=\\"rteright\\"><i>Kir&aacute\;ly Gy&ouml\;rgy</i><br />
 &nbsp\;</p>
END:VEVENT
END:VCALENDAR
